BEGIN:VCALENDAR
VERSION:2.0
PRODID:-//wp-events-plugin.com//7.2.3.1//EN
BEGIN:VEVENT
UID:637@biocityturku.fi
DTSTART;TZID=Europe/Helsinki:20241023T090000
DTEND;TZID=Europe/Helsinki:20241023T170000
DTSTAMP:20240918T114005Z
URL:https://biocityturku.fi/events/turku-imaging-day-2024/
SUMMARY:Turku Imaging Day 2024
DESCRIPTION:23rd October\, whole-day event\nOn-site event\nin Presidentti a
 uditorium\, BioCity\n\n&nbsp\;\n\nTurku\, long celebrated as the European 
 imaging capital\, is proud to announce the second edition of Turku Imaging
  Day! We are thrilled to announce that registration is now open!\n\nHeld a
 t the Presidentti Auditorium in BioCity\, this year's event promises an in
 credible showcase of Turku's cutting-edge imaging technologies and the bri
 lliant minds driving innovation in the field. As the European imaging capi
 tal\, Turku is proud to host this event for the second time\, and we can't
  wait for you to join us!\n\nThis is an exceptional opportunity to:\n\n 	L
 isten to fantastic cross-disciplinary talks.\n 	Engage with early-career r
 esearchers and established experts.\n 	Discover new collaborations and exp
 lore the latest advancements in imaging.\n\nTo cap off an inspiring day\, 
 we’re also hosting an evening social program with snacks and drinks at M
 auno premises in BioCity—the perfect chance to network with colleagues o
 ver drinks in a relaxed setting!\n\nDon’t miss your chance to be part of
  this dynamic event. Register now to secure your spot\, and stay tuned as 
 we announce the full program and further details.\n\nWe look forward to se
 eing you on October 23rd for an unforgettable day of science\, innovation\
 , and networking!\n\nREGISTER HERE\n\nFor more news and updates\, please f
 ollow the page https://www.bioimaging.fi/turku-imaging-day/  and all of 
 our social media!\n\nWelcome everyone!
ATTACH;FMTTYPE=image/jpeg:https://biocityturku.fi/wp-content/uploads/turku
 -imaging-day-thumbnail.jpg
CATEGORIES:BiocityTurku events
END:VEVENT
BEGIN:VTIMEZONE
TZID:Europe/Helsinki
X-LIC-LOCATION:Europe/Helsinki
BEGIN:DAYLIGHT
DTSTART:20240331T040000
TZOFFSETFROM:+0200
TZOFFSETTO:+0300
TZNAME:EEST
END:DAYLIGHT
END:VTIMEZONE
END:VCALENDAR