BEGIN:VCALENDAR
VERSION:2.0
PRODID:-//wp-events-plugin.com//7.2.3.1//EN
BEGIN:VEVENT
UID:661@biocityturku.fi
DTSTART;TZID=Europe/Helsinki:20241001T130000
DTEND;TZID=Europe/Helsinki:20241004T140000
DTSTAMP:20240916T084222Z
URL:https://biocityturku.fi/events/seminar-series-on-bioimage-analysis-vis
 ualization-and-beyond/
SUMMARY:Seminar Series on Bioimage Analysis\, Visualization and Beyond
DESCRIPTION:1st-4th October at 13:00-14:00\nOn-site event\nplace varies\, s
 ee below\nFlyer\n\nWe are excited to invite you to our upcoming lecture se
 ries titled "Bioimage Analysis\, Visualization &amp\; Beyond\," taking pla
 ce from October 1st to October 4th in Turku\, Finland. This series will fe
 ature experts from various fields\, offering insights into the latest adva
 ncements in bioimage analysis\, deep learning\, and data visualization wit
 hin the life sciences.\n\n&nbsp\;\n\nLecture Series Schedule\n\nTuesday\, 
 October 1 | 13:00 - 14:00 | Auditorium Biologi\, BioCity\nGuillaume Jacque
 met\, Associate Professor in Cell Biology\, Åbo Akademi University\nDeep 
 Learning in Microscopy \n\nWednesday\, October 2 | 13:00 - 14:00 | Auditor
 ium Biologi\, Biocity\nPekka Ruusuvuori\, Associate Professor in Biomedici
 ne\, University of Turku\nDeep Learning in Histopathology \n\nThursday\, O
 ctober 3 | 13:00 - 14:00 | Putous Auditorium\, Joki Conference Centre\nHel
 ena Jambor\, Associate Professor for Data Visualization\, University of Ap
 plied Sciences of the Grisons\, Switzerland\nKeynote Lecture: How to Not L
 ie with Charts - Better Data Visualisations for Life Sciences \n\nFriday\,
  October 4 | 13:00 - 14:00 | Auditorium Biologi\, Biocity\nJunel Solis\, B
 ioimage Analyst\, Turku BioImaging\, Åbo Akademi University / University 
 of Turku\nNext-Generation File Formats\, Version Control\, and Publishing 
 Your Data \n\n&nbsp\;\n\nTo register\, please click here.\n\nThis is an op
 en lecture series\, and we encourage everyone interested in the intersecti
 on of bioimage analysis\, data visualization\, and life sciences to attend
 ! This lecture series if funded by BioCity Turku\, Åbo Akademi science mi
 ni project\, Turku BioImaging and Euro-BioImaging.\n\nMore information fro
 m Hanna Grobe (hanna.grobe@abo.fi) and Joanna Pylvänäinen Joanna Pylvän
 äinen (Joanna.Pylvanainen@abo.fi)\n\nWelcome!
ATTACH;FMTTYPE=image/jpeg:https://biocityturku.fi/wp-content/uploads/2023/
 11/FoV-thumbnail.jpg
CATEGORIES:BiocityTurku events
END:VEVENT
BEGIN:VTIMEZONE
TZID:Europe/Helsinki
X-LIC-LOCATION:Europe/Helsinki
BEGIN:DAYLIGHT
DTSTART:20240331T040000
TZOFFSETFROM:+0200
TZOFFSETTO:+0300
TZNAME:EEST
END:DAYLIGHT
END:VTIMEZONE
END:VCALENDAR