BEGIN:VCALENDAR
VERSION:2.0
PRODID:-//wp-events-plugin.com//7.2.3.1//EN
BEGIN:VEVENT
UID:155@biocityturku.fi
DTSTART;TZID=Europe/Helsinki:20230308T111500
DTEND;TZID=Europe/Helsinki:20230308T120000
DTSTAMP:20231013T060410Z
URL:https://biocityturku.fi/events/prospects-of-infections-and-immunity-re
 inholm/
SUMMARY:Prospects of Infections and Immunity: Reinholm
DESCRIPTION:March 8th at 11:15\nHybrid event\nMitoosi / Zoom\n\n&nbsp\;\n\n
 Arttu Reinholm (Julkunen)\, title TBA\n\nOrganized live at Medisiina D and
  via Zoom: https://utu.zoom.us/j/69915597198\n\n&nbsp\;\n\nThe purpose of 
 the seminar series is to give dissertation researchers and young researche
 rs the opportunity to present their research and its results. At the same 
 time\, researchers have the opportunity to practice their presentation ski
 lls and receive feedback on their research. This series of seminars has a 
 long tradition and dates back to the time of Mikro and has now been contin
 ued here on the premises of Medisiina D with a slightly wider coverage. Th
 e last day of the seminar series is reserved for the so-called Young Scien
 tist progress report presentations\, where slightly younger researchers ca
 n present for example their Master's thesis research.\n\nYou are mostly we
 lcome to come follow the seminars and to support the prospects of our unit
  of Infections and Immunity! In case of any questions\, please contact the
  organizers Natalie nattom@utu.fi or Heidi: heidi.kunnasranta@utu.fi.
CATEGORIES:BiocityTurku events,Other events
LOCATION:#_LOCATIONNAME\, #_LOCATIONFULLLINE\, #_LOCATIONCOUNTRY
X-APPLE-STRUCTURED-LOCATION;VALUE=URI;X-ADDRESS=#_LOCATIONFULLLINE\, #_LOCA
 TIONCOUNTRY;X-APPLE-RADIUS=100;X-TITLE=#_LOCATIONNAME:geo:0,0
END:VEVENT
BEGIN:VTIMEZONE
TZID:Europe/Helsinki
X-LIC-LOCATION:Europe/Helsinki
BEGIN:STANDARD
DTSTART:20221030T030000
TZOFFSETFROM:+0300
TZOFFSETTO:+0200
TZNAME:EET
END:STANDARD
END:VTIMEZONE
END:VCALENDAR