BEGIN:VCALENDAR
VERSION:2.0
PRODID:-//wp-events-plugin.com//7.2.3.1//EN
BEGIN:VEVENT
UID:665@biocityturku.fi
DTSTART;TZID=Europe/Helsinki:20241003T150000
DTEND;TZID=Europe/Helsinki:20241003T160000
DTSTAMP:20240916T101538Z
URL:https://biocityturku.fi/events/ipp-seminar-meets-tremendo/
SUMMARY:IPP Seminar meets TREMENDO: Prunuskaite-Hyyryläinen
DESCRIPTION:3rd October at 15:00\nOn-site event\nin Lauren 2\, Medisiina D1
 016\n\nRenata Prunskaite-Hyyryläinen\, University of Oulu\nInsights into 
 Mammalian Reproduction: 3D View on Early Embryo Implantation\n\nHost: Petr
 a Sipilä\n\nIPP seminar series covers the diversity of biomedical/medical
  research performed in Integrative Physiology and Pharmacology research un
 it in Institute of Biomedicine\, University of Turku plus interesting talk
 s by visitors from national and international research collaboration netwo
 rks.IPP seminar series covers the diversity of biomedical/medical research
  performed in Integrative Physiology and Pharmacology research unit in Ins
 titute of Biomedicine\, University of Turku plus interesting talks by visi
 tors from national and international research collaboration networks.
ATTACH;FMTTYPE=image/jpeg:https://biocityturku.fi/wp-content/uploads/IPP-a
 utumn-2024-thumbnail.jpg
CATEGORIES:Other events
END:VEVENT
BEGIN:VTIMEZONE
TZID:Europe/Helsinki
X-LIC-LOCATION:Europe/Helsinki
BEGIN:DAYLIGHT
DTSTART:20240331T040000
TZOFFSETFROM:+0200
TZOFFSETTO:+0300
TZNAME:EEST
END:DAYLIGHT
END:VTIMEZONE
END:VCALENDAR