BEGIN:VCALENDAR
VERSION:2.0
PRODID:-//wp-events-plugin.com//7.2.3.1//EN
BEGIN:VEVENT
UID:913@biocityturku.fi
DTSTART;TZID=Europe/Helsinki:20260429T120000
DTEND;TZID=Europe/Helsinki:20260429T180000
DTSTAMP:20260417T112632Z
URL:https://biocityturku.fi/events/international-day-of-immunology/
SUMMARY:International Day of Immunology
DESCRIPTION:29th April at 12:00-13:00 and 16:00-17:00\nOnsite and online ev
 ents\nin Tiedonkolu\, Medisiina D / online\n\nWe are celebrating the Inter
 national Day of Immunology on 29 April 2026!\n\nYou are warmly welcome to 
 start the celebrations with your colleagues at Tiedonkolu at 12:00. Sparkl
 ing wine\, sima\, and Finnish doughnuts (munkki) will be served. For cater
 ing\, please register by April 22: https://link.webropolsurveys.com/S/882
 FA604E487C68F\n\nImmunology Day Webinar is arranged at 16:00 with Shimon S
 akaguchi\, Makoto Miyara\, Joris van der Veeken as spekaers and Rita Carse
 tti\, Federica Sallusto and Robert Balderas as chairs. Pre-registration is
  required to join! the webinar: https://immunohub.iuis.org/iuis/2026/webin
 ars/4193475\n\nNot all immune cells attack. Some keep the peace. On 29 Apr
 il 2026\, the International Day of Immunology will shine a spotlight on 
 Regulatory T Cells (Tregs)\, the immune system’s gatekeepers of toleranc
 e and balance. These specialized cells help prevent autoimmunity\, limit c
 hronic inflammation\, and maintain harmony across immune responses. Withou
 t them\, the system turns on itself.\n\nThis year’s campaign explores ho
 w Tregs preserve immune stability in complex environments — from the gut
  to the brain — and how understanding their role is reshaping our approa
 ch to cancer\, infection\, and autoimmune disease.\n\nLearn more about the
  2026 International Day of Immunology and the Awards here.
ATTACH;FMTTYPE=image/jpeg:https://biocityturku.fi/wp-content/uploads/DOI-T
 humb.png
CATEGORIES:Other events
END:VEVENT
BEGIN:VTIMEZONE
TZID:Europe/Helsinki
X-LIC-LOCATION:Europe/Helsinki
BEGIN:DAYLIGHT
DTSTART:20260329T040000
TZOFFSETFROM:+0200
TZOFFSETTO:+0300
TZNAME:EEST
END:DAYLIGHT
END:VTIMEZONE
END:VCALENDAR