BEGIN:VCALENDAR
VERSION:2.0
PRODID:-//wp-events-plugin.com//7.2.3.1//EN
BEGIN:VEVENT
UID:916@biocityturku.fi
DTSTART;TZID=Europe/Helsinki:20260505T110000
DTEND;TZID=Europe/Helsinki:20260505T120000
DTSTAMP:20260421T065609Z
URL:https://biocityturku.fi/events/inflames-visiting-professor-career-talk
 -bigas/
SUMMARY:InFLAMES Visiting Professor Career Talk: Bigas
DESCRIPTION:5th May at 11:00\nOnsite event\nin Arje Scheinin Hall\, Dentali
 a\n\nProf. Anna Bigas\, Hospital del Mar Research Institute Barcelona\; Jo
 sep Carreras Leukemia Research Institute\; and Spanish Cancer Virtual Cent
 er (CIBERONC)\, Spain\nA life in Notch: from Blood stem cells to leukemia\
 n\nHost: Cecilia Sahlgren (cecilia.sahlgren@abo.fi)\n\nCoffee\, tea\, and 
 sandwiches will be served before the seminar.\n\nAfter the seminar\, an ea
 rly-career scientist lunch event will be held\, where doctoral researchers
 \, postdocs\, and other interested persons are invited to join Anna for lu
 nch and open discussion. InFLAMES will cover the cost of the lunch\, but b
 oth occasions have limited seating and registrations is required.\n\nMore 
 information: https://inflames.utu.fi/events/visiting-professor-career-talk
 -anna-bigas/
ATTACH;FMTTYPE=image/jpeg:https://biocityturku.fi/wp-content/uploads/2023/
 10/inflames-thumbnail.jpg
CATEGORIES:Other events
END:VEVENT
BEGIN:VTIMEZONE
TZID:Europe/Helsinki
X-LIC-LOCATION:Europe/Helsinki
BEGIN:DAYLIGHT
DTSTART:20260329T040000
TZOFFSETFROM:+0200
TZOFFSETTO:+0300
TZNAME:EEST
END:DAYLIGHT
END:VTIMEZONE
END:VCALENDAR