BEGIN:VCALENDAR
VERSION:2.0
PRODID:-//wp-events-plugin.com//7.2.3.1//EN
BEGIN:VEVENT
UID:915@biocityturku.fi
DTSTART;TZID=Europe/Helsinki:20260429T120000
DTEND;TZID=Europe/Helsinki:20260429T130000
DTSTAMP:20260421T065434Z
URL:https://biocityturku.fi/events/inflames-guest-seminar-uibo/
SUMMARY:InFLAMES Guest Seminar: Uibo
DESCRIPTION:29th April at 12:00\nOnsite event\nin Lauren 2\, Medisiina D\n\
 nProfessor Raivo Uibo\, University of Tartu\, Estonia\nDiabetes tsunami 
 – Immunological challenges \n\nHost: Sirpa Jalkanen (sirjal@utu.fi)\n\nC
 offee/tea and sandwiches will be served at 11:30
ATTACH;FMTTYPE=image/jpeg:https://biocityturku.fi/wp-content/uploads/2023/
 10/inflames-thumbnail.jpg
CATEGORIES:Other events
END:VEVENT
BEGIN:VTIMEZONE
TZID:Europe/Helsinki
X-LIC-LOCATION:Europe/Helsinki
BEGIN:DAYLIGHT
DTSTART:20260329T040000
TZOFFSETFROM:+0200
TZOFFSETTO:+0300
TZNAME:EEST
END:DAYLIGHT
END:VTIMEZONE
END:VCALENDAR