BEGIN:VCALENDAR
VERSION:2.0
PRODID:-//wp-events-plugin.com//7.2.3.1//EN
BEGIN:VEVENT
UID:450@biocityturku.fi
DTSTART;TZID=Europe/Helsinki:20190905T120000
DTEND;TZID=Europe/Helsinki:20190905T130000
DTSTAMP:20231013T063208Z
URL:https://biocityturku.fi/events/frontiers-of-science-how-do-bacterial-p
 opulations-evolve-in-reality-some-answers-and-their-applications-to-vaccin
 e-optimization/
SUMMARY:Frontiers of Science: How do bacterial populations evolve in realit
 y? Some answers and their applications to vaccine optimization
DESCRIPTION:Prof. Jukka Corander\, University of Oslo\, Oslo\, Norway\nHow 
 do bacterial populations evolve in reality? Some answers and their applica
 tions to vaccine optimization\n\nHost: Jaana Vuopio (jaana.vuopio@utu.fi)\
 n\nJukka Corander is professor at the Institute of Basic Medical Sciences\
 , Faculty of Medicine\, University of Oslo\, Norway\, and an honorary facu
 lty member at the Wellcome Sanger Institute\, Cambridge\, UK. He has won t
 wo ERC grants\, an ERC StG (2009-2014) from the mathematics and statistics
  panel and an ERC AdG (2017-2022) from the infection and immunity panel. J
 ukka’s main research interests are microbial evolution and transmission 
 modeling\, statistical machine learning\, population genomics and inferenc
 e algorithms. The statistical methods introduced by his research group hav
 e led to numerous discoveries on the evolution\, resistance\, virulence an
 d transmission of pathogenic bacteria and viruses.
CATEGORIES:BiocityTurku events
LOCATION:#_LOCATIONNAME\, #_LOCATIONFULLLINE\, #_LOCATIONCOUNTRY
X-APPLE-STRUCTURED-LOCATION;VALUE=URI;X-ADDRESS=#_LOCATIONFULLLINE\, #_LOCA
 TIONCOUNTRY;X-APPLE-RADIUS=100;X-TITLE=#_LOCATIONNAME:geo:0,0
END:VEVENT
BEGIN:VTIMEZONE
TZID:Europe/Helsinki
X-LIC-LOCATION:Europe/Helsinki
BEGIN:DAYLIGHT
DTSTART:20190331T040000
TZOFFSETFROM:+0200
TZOFFSETTO:+0300
TZNAME:EEST
END:DAYLIGHT
END:VTIMEZONE
END:VCALENDAR