BEGIN:VCALENDAR
VERSION:2.0
PRODID:-//wp-events-plugin.com//7.2.3.1//EN
BEGIN:VEVENT
UID:650@biocityturku.fi
DTSTART;TZID=Europe/Helsinki:20240910T150000
DTEND;TZID=Europe/Helsinki:20240910T180000
DTSTAMP:20240826T060431Z
URL:https://biocityturku.fi/events/cancer-researchers-after-work/
SUMMARY:Cancer Researchers After Work
DESCRIPTION:10th September at 15:00-18:00\nOn-site event\nTiedonkolu\, Medi
 siina D\n\nUnder the motto 'get out of your office and meet your research 
 community'\, the Turku Cancer Research Society will hold an after work eve
 nt on September 10 from 15.00 to 18.00 to promote networking between basic
  and clinic researchers.\n\nDuring the event\, you will have the change to
  interact with other researchers in an informal environment\, while enjoyi
 ng some snacks and drinks. Everyone is invited\, from students\, researche
 rs and medical doctors.\n\nWe will introduce new basic and medical cancer 
 researchers in the Turku campus. Stay tuned\, more details about the progr
 am coming soon.\n\nMore information from Gabriela Martinez Chacon (gabriel
 a.chacon@utu.fi)
ATTACH;FMTTYPE=image/jpeg:https://biocityturku.fi/wp-content/uploads/2023/
 10/TCRS-thumbnail.jpg
CATEGORIES:Other events
END:VEVENT
BEGIN:VTIMEZONE
TZID:Europe/Helsinki
X-LIC-LOCATION:Europe/Helsinki
BEGIN:DAYLIGHT
DTSTART:20240331T040000
TZOFFSETFROM:+0200
TZOFFSETTO:+0300
TZNAME:EEST
END:DAYLIGHT
END:VTIMEZONE
END:VCALENDAR